BEGIN:VCALENDAR
VERSION:2.0
PRODID:KKTIX
CALSCALE:GREGORIAN
METHOD:PUBLISH
BEGIN:VTIMEZONE
TZID:Asia/Taipei
END:VTIMEZONE
BEGIN:VEVENT
DTSTAMP:20260421T181842Z
UID:81bef0da-f26c-4433-a5e0-86e5d85b38fb
DTSTART:20160429T113000Z
DTEND:20160715T133000Z
CLASS:PUBLIC
DESCRIPTION:https://2014twrf.kktix.cc/events/genderedmen
LOCATION: (台北市師大路136號) 怡木庫房
SUMMARY:男人有話大聲說：男人限定的對話聚會
END:VEVENT
END:VCALENDAR
